BEGIN:VCALENDAR
VERSION:2.0
PRODID:-//Aspire Training - ECPv5.4.0//NONSGML v1.0//EN
CALSCALE:GREGORIAN
METHOD:PUBLISH
X-WR-CALNAME:Aspire Training
X-ORIGINAL-URL:https://aspire-training.com.au
X-WR-CALDESC:Events for Aspire Training
BEGIN:VTIMEZONE
TZID:Australia/Perth
BEGIN:STANDARD
TZOFFSETFROM:+0800
TZOFFSETTO:+0800
TZNAME:AWST
DTSTART:20210101T000000
END:STANDARD
END:VTIMEZONE
BEGIN:VEVENT
DTSTART;VALUE=DATE:20210520
DTEND;VALUE=DATE:20210522
DTSTAMP:20210227T174357
CREATED:20181119T211909Z
LAST-MODIFIED:20210202T041727Z
UID:1271-1621468800-1621641599@aspire-training.com.au
SUMMARY:RSA & RCG PACKAGE - Maitland
DESCRIPTION:Click here to BOOK NOW
URL:https://aspire-training.com.au/event/rsa-rcg-package-maitland/
LOCATION:ASPIRE MAITLAND\, UNIT 2 33-35 ST ANDREWS ST\, MAITLAND\, NSW\, 2320\, Australia
ORGANIZER;CN="Aspire%20Training":MAILTO:admin@aspire-training.com.au
END:VEVENT
END:VCALENDAR