BEGIN:VCALENDAR
VERSION:2.0
PRODID:-//Aspire Training - ECPv5.4.0//NONSGML v1.0//EN
CALSCALE:GREGORIAN
METHOD:PUBLISH
X-WR-CALNAME:Aspire Training
X-ORIGINAL-URL:https://aspire-training.com.au
X-WR-CALDESC:Events for Aspire Training
BEGIN:VTIMEZONE
TZID:Australia/Sydney
BEGIN:STANDARD
TZOFFSETFROM:+1100
TZOFFSETTO:+1000
TZNAME:AEST
DTSTART:20210403T160000
END:STANDARD
BEGIN:DAYLIGHT
TZOFFSETFROM:+1000
TZOFFSETTO:+1100
TZNAME:AEDT
DTSTART:20211002T160000
END:DAYLIGHT
END:VTIMEZONE
BEGIN:VEVENT
DTSTART;VALUE=DATE:20210506
DTEND;VALUE=DATE:20210508
DTSTAMP:20210227T174114
CREATED:20201209T220002Z
LAST-MODIFIED:20210202T040406Z
UID:1788-1620259200-1620431999@aspire-training.com.au
SUMMARY:RSA & RCG PACKAGE - Maitland
DESCRIPTION:Click here to BOOK NOW
URL:https://aspire-training.com.au/event/rsa-rcg-package-maitland-2/
LOCATION:ASPIRE MAITLAND\, UNIT 2 33-35 ST ANDREWS ST\, MAITLAND\, NSW\, 2320\, Australia
ORGANIZER;CN="Aspire%20Training":MAILTO:admin@aspire-training.com.au
END:VEVENT
END:VCALENDAR