BEGIN:VCALENDAR
VERSION:2.0
PRODID:-//Aspire Training - ECPv5.4.0//NONSGML v1.0//EN
CALSCALE:GREGORIAN
METHOD:PUBLISH
X-WR-CALNAME:Aspire Training
X-ORIGINAL-URL:https://aspire-training.com.au
X-WR-CALDESC:Events for Aspire Training
BEGIN:VTIMEZONE
TZID:UTC
BEGIN:STANDARD
TZOFFSETFROM:+0000
TZOFFSETTO:+0000
TZNAME:UTC
DTSTART:20210101T000000
END:STANDARD
END:VTIMEZONE
BEGIN:VEVENT
DTSTART;TZID=UTC:20210514T090000
DTEND;TZID=UTC:20210514T153000
DTSTAMP:20210227T174308
CREATED:20170504T183254Z
LAST-MODIFIED:20210202T041121Z
UID:1043-1620982800-1621006200@aspire-training.com.au
SUMMARY:Provide First Aid - Maitland
DESCRIPTION:Click here to BOOK NOW
URL:https://aspire-training.com.au/event/first-aid-maitland-3/
LOCATION:ASPIRE MAITLAND\, UNIT 2 33-35 ST ANDREWS ST\, MAITLAND\, NSW\, 2320\, Australia
ORGANIZER;CN="Aspire%20Training":MAILTO:admin@aspire-training.com.au
END:VEVENT
END:VCALENDAR