BEGIN:VCALENDAR
VERSION:2.0
PRODID:-//Aspire Training - ECPv5.4.0//NONSGML v1.0//EN
CALSCALE:GREGORIAN
METHOD:PUBLISH
X-WR-CALNAME:Aspire Training
X-ORIGINAL-URL:https://aspire-training.com.au
X-WR-CALDESC:Events for Aspire Training
BEGIN:VTIMEZONE
TZID:Australia/Perth
BEGIN:STANDARD
TZOFFSETFROM:+0800
TZOFFSETTO:+0800
TZNAME:AWST
DTSTART:20210101T000000
END:STANDARD
END:VTIMEZONE
BEGIN:VEVENT
DTSTART;TZID=Australia/Perth:20210511T090000
DTEND;TZID=Australia/Perth:20210511T153000
DTSTAMP:20210227T174235
CREATED:20190213T191622Z
LAST-MODIFIED:20210202T041133Z
UID:1305-1620723600-1620747000@aspire-training.com.au
SUMMARY:Provide First Aid - Cardiff
DESCRIPTION:Click here to BOOK NOW
URL:https://aspire-training.com.au/event/first-aid-cardiff/
LOCATION:CARDIFF – ASPIRE TRAINING\, Unit 2 33-37 Pendlebury Rd\, Cardiff\, NSW\, 2285\, Australia
ORGANIZER;CN="Aspire%20Training":MAILTO:admin@aspire-training.com.au
END:VEVENT
END:VCALENDAR