BEGIN:VCALENDAR
VERSION:2.0
PRODID:-//Aspire Training - ECPv5.4.0//NONSGML v1.0//EN
CALSCALE:GREGORIAN
METHOD:PUBLISH
X-WR-CALNAME:Aspire Training
X-ORIGINAL-URL:https://aspire-training.com.au
X-WR-CALDESC:Events for Aspire Training
BEGIN:VTIMEZONE
TZID:UTC
BEGIN:STANDARD
TZOFFSETFROM:+0000
TZOFFSETTO:+0000
TZNAME:UTC
DTSTART:20210101T000000
END:STANDARD
END:VTIMEZONE
BEGIN:VEVENT
DTSTART;TZID=UTC:20210428T090000
DTEND;TZID=UTC:20210428T153000
DTSTAMP:20210227T172817
CREATED:20170122T164106Z
LAST-MODIFIED:20210112T015145Z
UID:900-1619600400-1619623800@aspire-training.com.au
SUMMARY:Provide First Aid - Cardiff
DESCRIPTION:Click here to BOOK NOW
URL:https://aspire-training.com.au/event/first-aid-cardiff-18/
LOCATION:CARDIFF – ASPIRE TRAINING\, Unit 2 33-37 Pendlebury Rd\, Cardiff\, NSW\, 2285\, Australia
ORGANIZER;CN="Aspire%20Training":MAILTO:admin@aspire-training.com.au
END:VEVENT
END:VCALENDAR